BEGIN:VCALENDAR
PRODID:-//Microsoft Corporation//Outlook 12.0 MIMEDIR//EN
VERSION:2.0
CALSCALE:GREGORIAN
BEGIN:VEVENT
UID: 87902a9c-4f3d-4929-afaa-ee592f1fb449
SUMMARY:Diskovahetund
DTSTAMP:20240412T110500
DTSTART:20240412T110500
DTEND:20240412T112500
LOCATION:
DESCRIPTION: <p><strong>Link: </strong>https://leisi.edu.ee/et/sundmuste-kalender/diskovahetund-2</p><p><strong>Hind: </strong></p>
STATUS:CONFIRMED
SEQUENCE:3
X-ALT-DESC;FMTTYPE=text/html:<p><strong>Link: </strong>https://leisi.edu.ee/et/sundmuste-kalender/diskovahetund-2</p><p><strong>Hind: </strong></p>
X-MICROSOFT-CDO-BUSYSTATUS:OOF
X-MICROSOFT-CDO-IMPORTANCE:1
X-MICROSOFT-DISALLOW-COUNTER:FALSE
X-MS-OLK-ALLOWEXTERNCHECK:TRUE
X-MS-OLK-CONFTYPE:0
X-MICROSOFT-CDO-ALLDAYEVENT:
X-MICROSOFT-MSNCALENDAR-ALLDAYEVENT:
END:VEVENT
END:VCALENDAR